BEGIN:VCALENDAR
VERSION:2.0
PRODID:-//Association Familiale Protestante - ECPv4.9.14//NONSGML v1.0//EN
CALSCALE:GREGORIAN
METHOD:PUBLISH
X-WR-CALNAME:Association Familiale Protestante
X-ORIGINAL-URL:https://www.afpsaintetienne.org
X-WR-CALDESC:Évènements pour Association Familiale Protestante
BEGIN:VTIMEZONE
TZID:Europe/Paris
BEGIN:DAYLIGHT
TZOFFSETFROM:+0100
TZOFFSETTO:+0200
TZNAME:CEST
DTSTART:20220327T010000
END:DAYLIGHT
BEGIN:STANDARD
TZOFFSETFROM:+0200
TZOFFSETTO:+0100
TZNAME:CET
DTSTART:20221030T010000
END:STANDARD
END:VTIMEZONE
BEGIN:VEVENT
DTSTART;TZID=Europe/Paris:20220611T143000
DTEND;TZID=Europe/Paris:20220611T163000
DTSTAMP:20260425T012537
CREATED:20190926T135224Z
LAST-MODIFIED:20220519T134740Z
UID:1276-1654957800-1654965000@www.afpsaintetienne.org
SUMMARY:Troc livres
DESCRIPTION: \n
URL:https://www.afpsaintetienne.org/event/troc-livres-3/
END:VEVENT
END:VCALENDAR